BEGIN:VCALENDAR
VERSION:2.0
PRODID:-//PaddlingExercises.com - Canoe and Kayak Paddling Exercises - ECPv6.15.13//NONSGML v1.0//EN
CALSCALE:GREGORIAN
METHOD:PUBLISH
X-WR-CALNAME:PaddlingExercises.com - Canoe and Kayak Paddling Exercises
X-ORIGINAL-URL:https://www.paddlingexercises.com
X-WR-CALDESC:Events for PaddlingExercises.com - Canoe and Kayak Paddling Exercises
REFRESH-INTERVAL;VALUE=DURATION:PT1H
X-Robots-Tag:noindex
X-PUBLISHED-TTL:PT1H
BEGIN:VTIMEZONE
TZID:America/Detroit
BEGIN:DAYLIGHT
TZOFFSETFROM:-0500
TZOFFSETTO:-0400
TZNAME:EDT
DTSTART:20230312T070000
END:DAYLIGHT
BEGIN:STANDARD
TZOFFSETFROM:-0400
TZOFFSETTO:-0500
TZNAME:EST
DTSTART:20231105T060000
END:STANDARD
BEGIN:DAYLIGHT
TZOFFSETFROM:-0500
TZOFFSETTO:-0400
TZNAME:EDT
DTSTART:20240310T070000
END:DAYLIGHT
BEGIN:STANDARD
TZOFFSETFROM:-0400
TZOFFSETTO:-0500
TZNAME:EST
DTSTART:20241103T060000
END:STANDARD
BEGIN:DAYLIGHT
TZOFFSETFROM:-0500
TZOFFSETTO:-0400
TZNAME:EDT
DTSTART:20250309T070000
END:DAYLIGHT
BEGIN:STANDARD
TZOFFSETFROM:-0400
TZOFFSETTO:-0500
TZNAME:EST
DTSTART:20251102T060000
END:STANDARD
END:VTIMEZONE
BEGIN:VEVENT
DTSTART;TZID=America/Detroit:20240502T090000
DTEND;TZID=America/Detroit:20240504T180000
DTSTAMP:20260425T090657
CREATED:20221204T223942Z
LAST-MODIFIED:20231209T140506Z
UID:1935-1714640400-1714845600@www.paddlingexercises.com
SUMMARY:ACA L2 Essentials of Kayak Touring Instructor Certification Workshop (ICW)
DESCRIPTION:The ACA Level 2: Essentials of Kayak Touring certification qualifies you to teach introductory kayak skills in a variety of paddle craft (sea kayaks\, sit on tops\, recreational kayaks) in a protected and calm water environment. This certification program is a great opportunity for club paddlers\, livery instructors\, and camp waterfront staff to add kayaking to their camp programs. This certification is appropriate for instructors who limit their teaching to inland lakes. \nThis program\, including four in-person on-water days supported by one virtual session\, is focused on training future instructors to teach the skills in the ACA L2 Essentials of Kayak Touring Instructor criteria. To get the most from the program\, this program is intended for paddlers possessing  ACA L2 personal paddling skills and knowledge at a minimum. \nDates: \n\nVirtual: April 16 and 23\, 6:00-8:00 pm CT\nIn-person: May 2-4\, 2024\n\nCourse venue: Chicago\, IL \nRegistration opens in early 2024 \nTo achieve certification as an instructor\, participants must be current members of the ACA. Please secure membership prior to the start of the course. Additionally\, upon successful completion of the ICW\, participants will need to join the ACA’s Safety Education & Instruction Council (SEIC) for an additional fee. \n\n\n\nReview course policies
URL:https://www.paddlingexercises.com/event/aca-l2-essentials-of-kayak-touring-instructor-certification-workshop-icw-2/
LOCATION:Chicago\, IL
CATEGORIES:Instructor development
ATTACH;FMTTYPE=image/jpeg:https://www.paddlingexercises.com/wp-content/uploads/2022/01/DSCF9458-scaled.jpg
ORGANIZER;CN="John Chase":MAILTO:john@paddlingexercises.com
END:VEVENT
END:VCALENDAR