BEGIN:VCALENDAR
VERSION:2.0
PRODID:-//PaddlingExercises.com - Canoe and Kayak Paddling Exercises - ECPv6.15.13//NONSGML v1.0//EN
CALSCALE:GREGORIAN
METHOD:PUBLISH
X-WR-CALNAME:PaddlingExercises.com - Canoe and Kayak Paddling Exercises
X-ORIGINAL-URL:https://www.paddlingexercises.com
X-WR-CALDESC:Events for PaddlingExercises.com - Canoe and Kayak Paddling Exercises
REFRESH-INTERVAL;VALUE=DURATION:PT1H
X-Robots-Tag:noindex
X-PUBLISHED-TTL:PT1H
BEGIN:VTIMEZONE
TZID:America/Detroit
BEGIN:DAYLIGHT
TZOFFSETFROM:-0500
TZOFFSETTO:-0400
TZNAME:EDT
DTSTART:20230312T070000
END:DAYLIGHT
BEGIN:STANDARD
TZOFFSETFROM:-0400
TZOFFSETTO:-0500
TZNAME:EST
DTSTART:20231105T060000
END:STANDARD
BEGIN:DAYLIGHT
TZOFFSETFROM:-0500
TZOFFSETTO:-0400
TZNAME:EDT
DTSTART:20240310T070000
END:DAYLIGHT
BEGIN:STANDARD
TZOFFSETFROM:-0400
TZOFFSETTO:-0500
TZNAME:EST
DTSTART:20241103T060000
END:STANDARD
BEGIN:DAYLIGHT
TZOFFSETFROM:-0500
TZOFFSETTO:-0400
TZNAME:EDT
DTSTART:20250309T070000
END:DAYLIGHT
BEGIN:STANDARD
TZOFFSETFROM:-0400
TZOFFSETTO:-0500
TZNAME:EST
DTSTART:20251102T060000
END:STANDARD
END:VTIMEZONE
BEGIN:VEVENT
DTSTART;TZID=America/Detroit:20240618T173000
DTEND;TZID=America/Detroit:20240618T203000
DTSTAMP:20260425T082951
CREATED:20240127T011736Z
LAST-MODIFIED:20240321T010054Z
UID:2197-1718731800-1718742600@www.paddlingexercises.com
SUMMARY:Kayak Quickstart
DESCRIPTION:The Kayak Quickstart workshop is an introduction to the fundamentals of kayaking. \nTopics include: \n\nEquipment for paddling\nStaying safe on the water\nUnderstanding and avoiding potential hazards\nFundamental strokes to maneuver your kayak\nBasic rescue demonstration\n\nSit on top\, recreational boats\, and sea kayaks are all welcome to participate in this class. \nDate: Tuesday\, June 18\, 2024 \nTime: 5:30 pm -8:30 pm \nLocation: Arbutus Lake\, Traverse City\, MI
URL:https://www.paddlingexercises.com/event/kayak-quickstart/
LOCATION:Arbutus Lake\, 506 E Arbutus Lake Rd\, Traverse City\, 49696\, United States
CATEGORIES:Skills courses
ATTACH;FMTTYPE=image/jpeg:https://www.paddlingexercises.com/wp-content/uploads/2021/09/DSCF0057-scaled.jpg
ORGANIZER;CN="John Chase":MAILTO:john@paddlingexercises.com
END:VEVENT
BEGIN:VEVENT
DTSTART;TZID=America/Detroit:20240629T110000
DTEND;TZID=America/Detroit:20240629T160000
DTSTAMP:20260425T082951
CREATED:20221113T192152Z
LAST-MODIFIED:20240302T010015Z
UID:1782-1719658800-1719676800@www.paddlingexercises.com
SUMMARY:ACA Level 1 Introduction to Kayaking Skills-PRIVATE PROGRAM
DESCRIPTION:The Introduction to Kayaking (Level 1) skills course is an introductory program that will provide you with the skills\, knowledge\, and abilities to be safe and confident on the water. A boat with sealed bow and stern bulkheads is recommended to participate in capsize and rescue technique activities. Spray skirts will not be used during this class. Topics covered include: \n\nPersonal and group equipment\nOn and off water safety and etiquette\nSafe launching and landing\nStrokes to maneuver your boat forward\, backward\, stopping\, turning\, and sideways\nBracing to avoid capsize\nControlled capsize and wet exit\n\nDate: June 29\, 2024 \nTime: 10:00 am – 3:00 pm \nLocation: Muskegon\, MI \nReview course policies
URL:https://www.paddlingexercises.com/event/aca-level-1-introduction-to-kayaking-skills/
LOCATION:Muskegon\, MI
CATEGORIES:Skills courses
ATTACH;FMTTYPE=image/jpeg:https://www.paddlingexercises.com/wp-content/uploads/2021/09/DSCF0057-scaled.jpg
ORGANIZER;CN="John Chase":MAILTO:john@paddlingexercises.com
END:VEVENT
END:VCALENDAR