BEGIN:VCALENDAR
VERSION:2.0
PRODID:-//PaddlingExercises.com - Canoe and Kayak Paddling Exercises - ECPv6.15.13//NONSGML v1.0//EN
CALSCALE:GREGORIAN
METHOD:PUBLISH
X-WR-CALNAME:PaddlingExercises.com - Canoe and Kayak Paddling Exercises
X-ORIGINAL-URL:https://www.paddlingexercises.com
X-WR-CALDESC:Events for PaddlingExercises.com - Canoe and Kayak Paddling Exercises
REFRESH-INTERVAL;VALUE=DURATION:PT1H
X-Robots-Tag:noindex
X-PUBLISHED-TTL:PT1H
BEGIN:VTIMEZONE
TZID:America/Detroit
BEGIN:DAYLIGHT
TZOFFSETFROM:-0500
TZOFFSETTO:-0400
TZNAME:EDT
DTSTART:20250309T070000
END:DAYLIGHT
BEGIN:STANDARD
TZOFFSETFROM:-0400
TZOFFSETTO:-0500
TZNAME:EST
DTSTART:20251102T060000
END:STANDARD
BEGIN:DAYLIGHT
TZOFFSETFROM:-0500
TZOFFSETTO:-0400
TZNAME:EDT
DTSTART:20260308T070000
END:DAYLIGHT
BEGIN:STANDARD
TZOFFSETFROM:-0400
TZOFFSETTO:-0500
TZNAME:EST
DTSTART:20261101T060000
END:STANDARD
BEGIN:DAYLIGHT
TZOFFSETFROM:-0500
TZOFFSETTO:-0400
TZNAME:EDT
DTSTART:20270314T070000
END:DAYLIGHT
BEGIN:STANDARD
TZOFFSETFROM:-0400
TZOFFSETTO:-0500
TZNAME:EST
DTSTART:20271107T060000
END:STANDARD
END:VTIMEZONE
BEGIN:VEVENT
DTSTART;TZID=America/Detroit:20260531T090000
DTEND;TZID=America/Detroit:20260603T180000
DTSTAMP:20260421T044804
CREATED:20231209T135440Z
LAST-MODIFIED:20260207T004504Z
UID:2176-1780218000-1780509600@www.paddlingexercises.com
SUMMARY:ACA L2 Essentials of Kayak Touring Instructor Certification Workshop (ICW)
DESCRIPTION:The ACA Level 2: Essentials of Kayak Touring certification qualifies you to teach introductory kayak skills in a variety of paddle craft (sea kayaks\, sit on tops\, recreational kayaks) in a protected and calm water environment. This certification program is a great opportunity for club paddlers\, livery instructors\, and camp waterfront staff to add kayaking to their camp programs. This certification is appropriate for instructors who limit their teaching to inland lakes. \nThis program\, including four in-person on-water days supported by one virtual session\, is focused on training future instructors to teach the skills in the ACA L2 Essentials of Kayak Touring Instructor criteria. To get the most from the program\, this program is intended for paddlers possessing  ACA L2 personal paddling skills and knowledge at a minimum. \nDates: May 31-June 3\, 2026 \nCourse venue: Urban Kayaks\, Chicago\, IL \nRegistration available through Urban Kayaks\n\nTo achieve certification as an instructor\, participants must be current members of the ACA. Please secure membership prior to the start of the course. Additionally\, upon successful completion of the ICW\, participants will need to join the ACA’s Safety Education & Instruction Council (SEIC) for an additional fee. \n\n\n\nReview course policies
URL:https://www.paddlingexercises.com/event/aca-l2-essentials-of-kayak-touring-instructor-certification-workshop-icw-3/
LOCATION:Chicago\, IL
CATEGORIES:Instructor development
ATTACH;FMTTYPE=image/jpeg:https://www.paddlingexercises.com/wp-content/uploads/2022/01/DSCF9458-scaled.jpg
ORGANIZER;CN="John Chase":MAILTO:john@paddlingexercises.com
END:VEVENT
BEGIN:VEVENT
DTSTART;TZID=America/Detroit:20260604T080000
DTEND;TZID=America/Detroit:20260607T170000
DTSTAMP:20260421T044804
CREATED:20260307T201119Z
LAST-MODIFIED:20260308T150911Z
UID:2679-1780560000-1780851600@www.paddlingexercises.com
SUMMARY:ACA L1 Introduction to Kayak Instructor Certification Workshop (ICW)-PRIVATE EVENT
DESCRIPTION:The ACA Level 1: Introduction to Kayaking certification qualifies you to teach introductory kayak skills in a variety of paddle craft (sea kayaks\, sit on tops\, recreational kayaks) without spray skirts in a protected and calm water environment. This certification program is a great opportunity for club paddlers\, livery instructors\, and camp waterfront staff to add kayaking to their camp programs. This certification is appropriate for instructors who limit their teaching to small\, sheltered bodies of water. \nThis is a private program. If you are interested in a private program for your group\, please contact John. \nCourse venue: Fort Wayne\, IN
URL:https://www.paddlingexercises.com/event/aca-l1-introduction-to-kayak-instructor-certification-workshop-icw-private-event-3/
LOCATION:Fort Wayne\, IN\, IN\, United States
CATEGORIES:Instructor development
ATTACH;FMTTYPE=image/jpeg:https://www.paddlingexercises.com/wp-content/uploads/2021/09/DSCF0057-scaled.jpg
END:VEVENT
BEGIN:VEVENT
DTSTART;TZID=America/Detroit:20260610T173000
DTEND;TZID=America/Detroit:20260610T203000
DTSTAMP:20260421T044804
CREATED:20240127T010535Z
LAST-MODIFIED:20260207T010846Z
UID:2193-1781112600-1781123400@www.paddlingexercises.com
SUMMARY:Quickstart to Kayaking Skills
DESCRIPTION:The Quickstart to Kayaking skills course is an introductory skills program that will provide you with the fundamental skills\, knowledge\, and abilities to improve safety and confidence on the water. Spray skirts will not be used during this class. Topics covered include: \n\nPersonal and group equipment\nOn and off water safety and etiquette\nSafe launching and landing\nStrokes to maneuver your boat forward\, backward\, stopping\, turning\, and sideways\nControlled capsize and wet exit\n\nDate: June 10\, 2026 \nTime: 5:30-8:30 pm \nLocation: Arbutus Lake\, Traverse City\, MI \nReview course policies \nClick here to register
URL:https://www.paddlingexercises.com/event/aca-level-1-introduction-to-kayaking-skills-2/
LOCATION:Arbutus Lake\, 506 E Arbutus Lake Rd\, Traverse City\, 49696\, United States
CATEGORIES:Skills courses
ATTACH;FMTTYPE=image/jpeg:https://www.paddlingexercises.com/wp-content/uploads/2021/09/DSCF0057-scaled.jpg
ORGANIZER;CN="John Chase":MAILTO:john@paddlingexercises.com
END:VEVENT
BEGIN:VEVENT
DTSTART;TZID=America/Detroit:20260617T173000
DTEND;TZID=America/Detroit:20260617T203000
DTSTAMP:20260421T044804
CREATED:20230109T171450Z
LAST-MODIFIED:20260123T002702Z
UID:1975-1781717400-1781728200@www.paddlingexercises.com
SUMMARY:Rescue Rodeo
DESCRIPTION:This fun 3-hour program will cover the fundamentals of flatwater rescue to help paddlers get back in their boats after a capsize. We will cover: \n\nSelf and assisted rescue techniques\nThe use of slings and paddle floats\nRe-entry for injured paddlers\n\nPlan for a fun and empowering afternoon falling out of and climbing back into boats.  Guaranteed laughs! \nLocation: Traverse City\, MI \nDate: June 17\, 2026 \nTime: 5:30-8:30 pm \nCourse fee: $60
URL:https://www.paddlingexercises.com/event/rescue-rodeo/
LOCATION:Arbutus Lake\, 506 E Arbutus Lake Rd\, Traverse City\, 49696\, United States
CATEGORIES:Skills courses
ATTACH;FMTTYPE=image/jpeg:https://www.paddlingexercises.com/wp-content/uploads/2020/08/DSCF9943-scaled.jpg
ORGANIZER;CN="John Chase":MAILTO:john@paddlingexercises.com
END:VEVENT
BEGIN:VEVENT
DTSTART;TZID=America/Detroit:20260621T090000
DTEND;TZID=America/Detroit:20260621T160000
DTSTAMP:20260421T044804
CREATED:20240317T001424Z
LAST-MODIFIED:20260123T004034Z
UID:2237-1782032400-1782057600@www.paddlingexercises.com
SUMMARY:River Kayaking Skills and Safety
DESCRIPTION:This class will teach basic moving water skills that every river kayaker should know. Students will learn fundamental maneuvers that include: \n\nUsing river features to move efficiently and safety downriver\nRecognizing and avoiding hazards\nMoving into and out of the current\nUsing river current for play\nCritical safety equipment and its use\n\nLocation: Boardman River\, Traverse City\, MI \nDate: June 21\, 2026 \nTime: 9:00 am-4:00 pm
URL:https://www.paddlingexercises.com/event/river-kayaking-skills-and-safety/
LOCATION:Boardman River\, Shumsky Landing\, Traverse City\, MI\, United States
CATEGORIES:Skills courses
ATTACH;FMTTYPE=image/jpeg:https://www.paddlingexercises.com/wp-content/uploads/2024/03/IMG_8941-rotated.jpg
END:VEVENT
BEGIN:VEVENT
DTSTART;TZID=America/Detroit:20260623T090000
DTEND;TZID=America/Detroit:20260626T170000
DTSTAMP:20260421T044804
CREATED:20221113T231311Z
LAST-MODIFIED:20251123T212503Z
UID:1842-1782205200-1782493200@www.paddlingexercises.com
SUMMARY:ACA L1 Introduction to Kayak Instructor Certification Workshop (ICW)-PRIVATE EVENT
DESCRIPTION:The ACA Level 1: Introduction to Kayaking certification qualifies you to teach introductory kayak skills in a variety of paddle craft (sea kayaks\, sit on tops\, recreational kayaks) without spray skirts in a protected and calm water environment. This certification program is a great opportunity for club paddlers\, livery instructors\, and camp waterfront staff to add kayaking to their camp programs. This certification is appropriate for instructors who limit their teaching to small\, sheltered bodies of water. \nThis is a private program. If you are interested in a private program for your group\, please contact John. \nCourse venue: Minooka\, IL
URL:https://www.paddlingexercises.com/event/aca-l1-introduction-to-kayak-instructor-certification-workshop-icw-private-event/
CATEGORIES:Instructor development
ATTACH;FMTTYPE=image/jpeg:https://www.paddlingexercises.com/wp-content/uploads/2021/09/DSCF0057-scaled.jpg
END:VEVENT
BEGIN:VEVENT
DTSTART;TZID=America/Detroit:20260627T083000
DTEND;TZID=America/Detroit:20260627T160000
DTSTAMP:20260421T044804
CREATED:20230905T170213Z
LAST-MODIFIED:20251123T213529Z
UID:2097-1782549000-1782576000@www.paddlingexercises.com
SUMMARY:ACA L1-2 Coastal Kayak Instructor Update
DESCRIPTION:Get together with your fellow instructors to sharpen your skills and meet your four-year requirement to keep your ACA certification current. \nTopics include: \n\nOn-water skills and maneuvers\nRisk management and safety\nAssessment techniques\nSelf and assisted rescue techniques\nTeach back opportunities\nOn-land safety presentations\nAdministrative support\n\nThe program will involve a full day on the water preceded by a 1.5 hour virtual session to cover administrative topics. \nDate: June 27\, 2026 \nVenue: Chicago\, IL \n\n\n\nReview course policies
URL:https://www.paddlingexercises.com/event/aca-l1-2-coastal-kayak-instructor-update-3/
LOCATION:Chicago\, IL
CATEGORIES:Instructor development
ATTACH;FMTTYPE=image/jpeg:https://www.paddlingexercises.com/wp-content/uploads/2023/09/Silbs.jpg
ORGANIZER;CN="John Chase":MAILTO:john@paddlingexercises.com
END:VEVENT
END:VCALENDAR